BEGIN:VCALENDAR
PRODID:-//Feedo Feed//NONSGML v1.0//EN
VERSION:2.0
CALSCALE:GREGORIAN
METHOD:PUBLISH
X-WR-CALNAME:Camilo Pasquale-Moncayo
X-WR-CALDESC:
X-MS-OLK-FORCEINSPECTOROPEN:TRUE
BEGIN:VEVENT
DTSTAMP:20260422T193042Z
DTSTART:20230202T190000Z
DTEND:20230202T193000Z
TRANSP:TRANSPARENT
UID:1107362023-02-02
SUMMARY:Camilo Pasquale-Moncayo
DESCRIPTION:
URL:http://www.cmcatlanta.com/index.php/component/ohanah/camilo-pasquale-moncayo-3?format=html&amp;Itemid=
CATEGORIES:Khesner Oliveira
GEO:33.7704955;-84.29584339999997
LOCATION:CMC Decatur, Private Lesson
END:VEVENT
END:VCALENDAR