BEGIN:VCALENDAR
PRODID:-//Feedo Feed//NONSGML v1.0//EN
VERSION:2.0
CALSCALE:GREGORIAN
METHOD:PUBLISH
X-WR-CALNAME:Camp Concert 
X-WR-CALDESC:All other faculty in lessons.  Please demonstrate and play for camp students, any rep is fine.  
X-MS-OLK-FORCEINSPECTOROPEN:TRUE
BEGIN:VEVENT
DTSTAMP:20260422T104029Z
DTSTART:20210602T170000Z
DTEND:20210602T173000Z
TRANSP:TRANSPARENT
UID:952092021-06-02
SUMMARY:Camp Concert 
DESCRIPTION:All other faculty in lessons.  Please demonstrate and play for camp students, any rep is fine.  
URL:http://www.cmcatlanta.com/index.php/component/ohanah/camp-concert?format=html&amp;Itemid=
CATEGORIES:Peter Sloan
GEO:33.7705095;-84.29586770000003
LOCATION:CMC Decatur, Faculty Assignment
END:VEVENT
END:VCALENDAR