BEGIN:VCALENDAR
PRODID:-//Feedo Feed//NONSGML v1.0//EN
VERSION:2.0
CALSCALE:GREGORIAN
METHOD:PUBLISH
X-WR-CALNAME:Cassie Amblard
X-WR-CALDESC:
X-MS-OLK-FORCEINSPECTOROPEN:TRUE
BEGIN:VEVENT
DTSTAMP:20260422T062619Z
DTSTART:20230221T220000Z
DTEND:20230221T223000Z
TRANSP:TRANSPARENT
UID:1056772023-02-21
SUMMARY:Cassie Amblard
DESCRIPTION:
URL:http://www.cmcatlanta.com/index.php/component/ohanah/cassie-amblard-25-17?format=html&amp;Itemid=
CATEGORIES:Stephanie Cordoba 
GEO:33.7704955;-84.29584339999997
LOCATION:CMC Decatur, Private Lesson
END:VEVENT
END:VCALENDAR