BEGIN:VCALENDAR
PRODID:-//Feedo Feed//NONSGML v1.0//EN
VERSION:2.0
CALSCALE:GREGORIAN
METHOD:PUBLISH
X-WR-CALNAME:CMC Closed, Labor Day 
X-WR-CALDESC:
X-MS-OLK-FORCEINSPECTOROPEN:TRUE
BEGIN:VEVENT
DTSTAMP:20260421T230442Z
DTSTART:20220902T230000Z
DTEND:20220905T170000Z
TRANSP:TRANSPARENT
UID:1060092022-09-03
SUMMARY:CMC Closed, Labor Day 
DESCRIPTION:
URL:http://www.cmcatlanta.com/index.php/component/ohanah/center-closed-labor-day?format=html&amp;Itemid=
CATEGORIES:Master Calendar
GEO:
LOCATION:
END:VEVENT
END:VCALENDAR