BEGIN:VCALENDAR
PRODID:-//Feedo Feed//NONSGML v1.0//EN
VERSION:2.0
CALSCALE:GREGORIAN
METHOD:PUBLISH
X-WR-CALNAME:Chloe Paul
X-WR-CALDESC:
X-MS-OLK-FORCEINSPECTOROPEN:TRUE
BEGIN:VEVENT
DTSTAMP:20260422T012517Z
DTSTART:20230207T200000Z
DTEND:20230207T203000Z
TRANSP:TRANSPARENT
UID:1091282023-02-07
SUMMARY:Chloe Paul
DESCRIPTION:
URL:http://www.cmcatlanta.com/index.php/component/ohanah/chloe-paul-22?format=html&amp;Itemid=
CATEGORIES:Jenn Cornell
GEO:33.7704955;-84.29584339999997
LOCATION:CMC Decatur, Private Lesson
END:VEVENT
END:VCALENDAR