BEGIN:VCALENDAR
PRODID:-//Feedo Feed//NONSGML v1.0//EN
VERSION:2.0
CALSCALE:GREGORIAN
METHOD:PUBLISH
X-WR-CALNAME:Claudia Romero, new teacher meeting
X-WR-CALDESC:
X-MS-OLK-FORCEINSPECTOROPEN:TRUE
BEGIN:VEVENT
DTSTAMP:20260424T133842Z
DTSTART:20230724T163000Z
DTEND:20230724T173000Z
TRANSP:TRANSPARENT
UID:1117992023-07-24
SUMMARY:Claudia Romero, new teacher meeting
DESCRIPTION:
URL:http://www.cmcatlanta.com/index.php/component/ohanah/claudia-romero-new-teacher-meeting?format=html&amp;Itemid=
CATEGORIES:Snow Aster
GEO:33.7704955;-84.29584339999997
LOCATION:CMC Decatur
END:VEVENT
END:VCALENDAR