BEGIN:VCALENDAR
PRODID:-//Feedo Feed//NONSGML v1.0//EN
VERSION:2.0
CALSCALE:GREGORIAN
METHOD:PUBLISH
X-WR-CALNAME:Clem Pattico
X-WR-CALDESC:Piano, theory/comp
X-MS-OLK-FORCEINSPECTOROPEN:TRUE
BEGIN:VEVENT
DTSTAMP:20260422T170417Z
DTSTART:20230208T211500Z
DTEND:20230208T211500Z
TRANSP:TRANSPARENT
UID:1103832023-02-08
SUMMARY:Clem Pattico
DESCRIPTION:Piano, theory/comp
URL:http://www.cmcatlanta.com/index.php/component/ohanah/clem-pattico-5?format=html&amp;Itemid=
CATEGORIES:Phil Sims
GEO:33.764702;-84.35057239999998
LOCATION:CMC Little Five Points, Faculty Assignment
END:VEVENT
END:VCALENDAR