BEGIN:VCALENDAR
PRODID:-//Feedo Feed//NONSGML v1.0//EN
VERSION:2.0
CALSCALE:GREGORIAN
METHOD:PUBLISH
X-WR-CALNAME:CMC Decatur Music Theater
X-WR-CALDESC:
X-MS-OLK-FORCEINSPECTOROPEN:TRUE
BEGIN:VEVENT
DTSTAMP:20260424T200219Z
DTSTART:20230614T170000Z
DTEND:20230614T220000Z
TRANSP:TRANSPARENT
UID:1110382023-06-14
SUMMARY:CMC Decatur Music Theater
DESCRIPTION:
URL:http://www.cmcatlanta.com/index.php/component/ohanah/cm-decatur-music-theater-1?format=html&amp;Itemid=
CATEGORIES:Diana Orozco
GEO:33.7705095;-84.29586770000003
LOCATION:CMC Decatur, Faculty Assignment
END:VEVENT
END:VCALENDAR