BEGIN:VCALENDAR
PRODID:-//Feedo Feed//NONSGML v1.0//EN
VERSION:2.0
CALSCALE:GREGORIAN
METHOD:PUBLISH
X-WR-CALNAME:CMC Atlanta ART Orientation
X-WR-CALDESC:Orientation, classes, teaching assignments, etc.  \n \n 
X-MS-OLK-FORCEINSPECTOROPEN:TRUE
BEGIN:VEVENT
DTSTAMP:20260423T022142Z
DTSTART:20210822T140000Z
DTEND:20210822T223000Z
TRANSP:TRANSPARENT
UID:1007892021-08-22
SUMMARY:CMC Atlanta ART Orientation
DESCRIPTION:Orientation, classes, teaching assignments, etc.  \n \n 
URL:http://www.cmcatlanta.com/index.php/component/ohanah/cmc-atlanta-art-orientation?format=html&amp;Itemid=
CATEGORIES:Akeal Evans
GEO:33.764702;-84.35057239999998
LOCATION:CMC Little Five Points, Faculty Assignment
END:VEVENT
END:VCALENDAR