BEGIN:VCALENDAR
PRODID:-//Feedo Feed//NONSGML v1.0//EN
VERSION:2.0
CALSCALE:GREGORIAN
METHOD:PUBLISH
X-WR-CALNAME:CMC Atlanta MidSummer Showcase
X-WR-CALDESC:
X-MS-OLK-FORCEINSPECTOROPEN:TRUE
BEGIN:VEVENT
DTSTAMP:20260423T014329Z
DTSTART:20170716T230000Z
DTEND:20170723T050000Z
TRANSP:TRANSPARENT
UID:463422017-07-17
SUMMARY:CMC Atlanta MidSummer Showcase
DESCRIPTION:
URL:http://www.cmcatlanta.com/index.php/component/ohanah/cmc-atlanta-midsummer-showcase?format=html&amp;Itemid=
CATEGORIES:Emma Sims
GEO:
LOCATION:7Stages Theatre
END:VEVENT
END:VCALENDAR