BEGIN:VCALENDAR
PRODID:-//Feedo Feed//NONSGML v1.0//EN
VERSION:2.0
CALSCALE:GREGORIAN
METHOD:PUBLISH
X-WR-CALNAME:CMC Atlanta Salon Recital
X-WR-CALDESC:Zoom recital. \nOpen to all students. \nPlease sign up using the Register button bottom right.    \nPlease email Diana@CMCAtlanta.com with questions.  
X-MS-OLK-FORCEINSPECTOROPEN:TRUE
BEGIN:VEVENT
DTSTAMP:20260422T055544Z
DTSTART:20201212T140000Z
DTEND:20201212T160000Z
TRANSP:TRANSPARENT
UID:939022020-12-12
SUMMARY:CMC Atlanta Salon Recital
DESCRIPTION:Zoom recital. \nOpen to all students. \nPlease sign up using the Register button bottom right.    \nPlease email Diana@CMCAtlanta.com with questions.  
URL:http://www.cmcatlanta.com/index.php/component/ohanah/cmc-atlanta-salon-recital-6?format=html&amp;Itemid=
CATEGORIES:Master Calendar
GEO:
LOCATION:
END:VEVENT
END:VCALENDAR