BEGIN:VCALENDAR
PRODID:-//Feedo Feed//NONSGML v1.0//EN
VERSION:2.0
CALSCALE:GREGORIAN
METHOD:PUBLISH
X-WR-CALNAME:CMC Atlanta Salon Recital
X-WR-CALDESC:
X-MS-OLK-FORCEINSPECTOROPEN:TRUE
BEGIN:VEVENT
DTSTAMP:20260421T202203Z
DTSTART:20210320T180000Z
DTEND:20210320T200000Z
TRANSP:TRANSPARENT
UID:951112021-03-20
SUMMARY:CMC Atlanta Salon Recital
DESCRIPTION:
URL:http://www.cmcatlanta.com/index.php/component/ohanah/cmc-atlanta-salon-recital-9?format=html&amp;Itemid=
CATEGORIES:Master Calendar
GEO:33.7646878;-84.35068100000001
LOCATION:CMC Little 5 Points 
END:VEVENT
END:VCALENDAR