BEGIN:VCALENDAR
PRODID:-//Feedo Feed//NONSGML v1.0//EN
VERSION:2.0
CALSCALE:GREGORIAN
METHOD:PUBLISH
X-WR-CALNAME:CMC Atlanta Student Recital
X-WR-CALDESC:Online recital for current students.  Link to online event will be posted here shortly before the event.\n \n*****************************************\n \nDiana Orozco is inviting you to a scheduled Zoom meeting.\n \nTopic: CMC Atlanta, Salon Recital, Saturday, May 21, 2022\nTime: May 21, 2022 03:00 PM Eastern Time (US and Canada)\n \nJoin Zoom Meeting\nhttps://us02web.zoom.us/j/82540806119?pwd=bU9vU29WYmxEYy9OZE9vckxRUVJUdz09\n \nMeeting ID: 825 4080 6119\nPasscode: 933031\nOne tap mobile\n+13126266799,,82540806119#,,,,*933031# US (Chicago)\n+19292056099,,82540806119#,,,,*933031# US (New York)\n \nDial by your location\n        +1 312 626 6799 US (Chicago)\n        +1 929 205 6099 US (New York)\n        +1 301 715 8592 US (Washington DC)\n        +1 346 248 7799 US (Houston)\n        +1 669 900 6833 US (San Jose)\n        +1 253 215 8782 US (Tacoma)\nMeeting ID: 825 4080 6119\nPasscode: 933031\nFind your local number: https://us02web.zoom.us/u/keinSKdfN5\n \n 
X-MS-OLK-FORCEINSPECTOROPEN:TRUE
BEGIN:VEVENT
DTSTAMP:20260421T065222Z
DTSTART:20220521T190000Z
DTEND:20220521T203000Z
TRANSP:TRANSPARENT
UID:1054602022-05-21
SUMMARY:CMC Atlanta Student Recital
DESCRIPTION:Online recital for current students.  Link to online event will be posted here shortly before the event.\n \n*****************************************\n \nDiana Orozco is inviting you to a scheduled Zoom meeting.\n \nTopic: CMC Atlanta, Salon Recital, Saturday, May 21, 2022\nTime: May 21, 2022 03:00 PM Eastern Time (US and Canada)\n \nJoin Zoom Meeting\nhttps://us02web.zoom.us/j/82540806119?pwd=bU9vU29WYmxEYy9OZE9vckxRUVJUdz09\n \nMeeting ID: 825 4080 6119\nPasscode: 933031\nOne tap mobile\n+13126266799,,82540806119#,,,,*933031# US (Chicago)\n+19292056099,,82540806119#,,,,*933031# US (New York)\n \nDial by your location\n        +1 312 626 6799 US (Chicago)\n        +1 929 205 6099 US (New York)\n        +1 301 715 8592 US (Washington DC)\n        +1 346 248 7799 US (Houston)\n        +1 669 900 6833 US (San Jose)\n        +1 253 215 8782 US (Tacoma)\nMeeting ID: 825 4080 6119\nPasscode: 933031\nFind your local number: https://us02web.zoom.us/u/keinSKdfN5\n \n 
URL:http://www.cmcatlanta.com/index.php/component/ohanah/cmc-atlanta-student-recital-2?format=html&amp;Itemid=
CATEGORIES:Master Calendar
GEO:33.7646878;-84.35068100000001
LOCATION:Online Zoom Platform
END:VEVENT
END:VCALENDAR