BEGIN:VCALENDAR
PRODID:-//Feedo Feed//NONSGML v1.0//EN
VERSION:2.0
CALSCALE:GREGORIAN
METHOD:PUBLISH
X-WR-CALNAME:CMC Atlanta Student Recital - Dunwoody
X-WR-CALDESC:Recital open to all CMC students.  Come play your favorite piece for family and friends!
X-MS-OLK-FORCEINSPECTOROPEN:TRUE
BEGIN:VEVENT
DTSTAMP:20260423T015730Z
DTSTART:20231111T180000Z
DTEND:20231111T200000Z
TRANSP:TRANSPARENT
UID:1117692023-11-11
SUMMARY:CMC Atlanta Student Recital - Dunwoody
DESCRIPTION:Recital open to all CMC students.  Come play your favorite piece for family and friends!
URL:http://www.cmcatlanta.com/index.php/component/ohanah/cmc-atlanta-student-recital-dunwoody?format=html&amp;Itemid=
CATEGORIES:Master Calendar
GEO:33.94902;-84.33631689999999
LOCATION:CMC Dunwoody
END:VEVENT
END:VCALENDAR