BEGIN:VCALENDAR
PRODID:-//Feedo Feed//NONSGML v1.0//EN
VERSION:2.0
CALSCALE:GREGORIAN
METHOD:PUBLISH
X-WR-CALNAME:POSTPONED:  CMC Atlanta Student Recital -Strings
X-WR-CALDESC:This recital will be rescheduled in May.\n \nOnline and in-person recital for current students.  Link to online event will be posted here shortly before the event.
X-MS-OLK-FORCEINSPECTOROPEN:TRUE
BEGIN:VEVENT
DTSTAMP:20260421T004832Z
DTSTART:20220423T190000Z
DTEND:20220423T203000Z
TRANSP:TRANSPARENT
UID:1054582022-04-23
SUMMARY:POSTPONED:  CMC Atlanta Student Recital -Strings
DESCRIPTION:This recital will be rescheduled in May.\n \nOnline and in-person recital for current students.  Link to online event will be posted here shortly before the event.
URL:http://www.cmcatlanta.com/index.php/component/ohanah/cmc-atlanta-student-recital-strings?format=html&amp;Itemid=
CATEGORIES:Master Calendar
GEO:33.7646878;-84.35068100000001
LOCATION:Online Zoom Platform and in-person
END:VEVENT
END:VCALENDAR