BEGIN:VCALENDAR
PRODID:-//Feedo Feed//NONSGML v1.0//EN
VERSION:2.0
CALSCALE:GREGORIAN
METHOD:PUBLISH
X-WR-CALNAME:CMC Decatur AMP
X-WR-CALDESC:Drive either Fernbank or Fave route and teach class assignments  listed in email.  
X-MS-OLK-FORCEINSPECTOROPEN:TRUE
BEGIN:VEVENT
DTSTAMP:20260422T221623Z
DTSTART:20260416T130000Z
DTEND:20260416T130000Z
TRANSP:TRANSPARENT
UID:1308222026-04-16
SUMMARY:CMC Decatur AMP
DESCRIPTION:Drive either Fernbank or Fave route and teach class assignments  listed in email.  
URL:http://www.cmcatlanta.com/index.php/component/ohanah/cmc-decatur-amp-12-2?format=html&amp;Itemid=
CATEGORIES:Akeal Evans
GEO:33.7705095;-84.29586770000003
LOCATION:CMC Decatur, Faculty Assignment
END:VEVENT
END:VCALENDAR