BEGIN:VCALENDAR
PRODID:-//Feedo Feed//NONSGML v1.0//EN
VERSION:2.0
CALSCALE:GREGORIAN
METHOD:PUBLISH
X-WR-CALNAME:CMC Decatur: Early Release Day (AMP pick-up as usual)
X-WR-CALDESC:
X-MS-OLK-FORCEINSPECTOROPEN:TRUE
BEGIN:VEVENT
DTSTAMP:20260422T142127Z
DTSTART:20231220T040000Z
DTEND:20231220T100000Z
TRANSP:TRANSPARENT
UID:1186262023-12-20
SUMMARY:CMC Decatur: Early Release Day (AMP pick-up as usual)
DESCRIPTION:
URL:http://www.cmcatlanta.com/index.php/component/ohanah/cmc-decatur-early-release-day-amp-pick-up-as-usual-1?format=html&amp;Itemid=
CATEGORIES:Master Calendar
GEO:33.7704955;-84.29584339999997
LOCATION:CMC Decatur
END:VEVENT
END:VCALENDAR