BEGIN:VCALENDAR
PRODID:-//Feedo Feed//NONSGML v1.0//EN
VERSION:2.0
CALSCALE:GREGORIAN
METHOD:PUBLISH
X-WR-CALNAME:CMC Decatur Fall Break
X-WR-CALDESC:
X-MS-OLK-FORCEINSPECTOROPEN:TRUE
BEGIN:VEVENT
DTSTAMP:20260422T002725Z
DTSTART:20220919T040000Z
DTEND:20220925T220000Z
TRANSP:TRANSPARENT
UID:1060752022-09-19
SUMMARY:CMC Decatur Fall Break
DESCRIPTION:
URL:http://www.cmcatlanta.com/index.php/component/ohanah/cmc-decatur-fall-break?format=html&amp;Itemid=
CATEGORIES:Master Calendar
GEO:33.7704955;-84.29584339999997
LOCATION:CMC Decatur
END:VEVENT
END:VCALENDAR