BEGIN:VCALENDAR
PRODID:-//Feedo Feed//NONSGML v1.0//EN
VERSION:2.0
CALSCALE:GREGORIAN
METHOD:PUBLISH
X-WR-CALNAME:CMC Decatur Folk and County CENTER CLOSED
X-WR-CALDESC:
X-MS-OLK-FORCEINSPECTOROPEN:TRUE
BEGIN:VEVENT
DTSTAMP:20260424T150840Z
DTSTART:20230703T160000Z
DTEND:20230703T220000Z
TRANSP:TRANSPARENT
UID:1113042023-07-03
SUMMARY:CMC Decatur Folk and County CENTER CLOSED
DESCRIPTION:
URL:http://www.cmcatlanta.com/index.php/component/ohanah/cmc-decatur-folk-and-county-center-closed?format=html&amp;Itemid=
CATEGORIES:Emelyn Carden
GEO:33.7705095;-84.29586770000003
LOCATION:CMC Decatur, Faculty Assignment
END:VEVENT
END:VCALENDAR