BEGIN:VCALENDAR
PRODID:-//Feedo Feed//NONSGML v1.0//EN
VERSION:2.0
CALSCALE:GREGORIAN
METHOD:PUBLISH
X-WR-CALNAME:CMC Decatur Front Desk
X-WR-CALDESC:Mondays until 9/11/23
X-MS-OLK-FORCEINSPECTOROPEN:TRUE
BEGIN:VEVENT
DTSTAMP:20260424T040931Z
DTSTART:20230828T200000Z
DTEND:20230828T223000Z
TRANSP:TRANSPARENT
UID:1134792023-08-28
SUMMARY:CMC Decatur Front Desk
DESCRIPTION:Mondays until 9/11/23
URL:http://www.cmcatlanta.com/index.php/component/ohanah/cmc-decatur-front-desk-20?format=html&amp;Itemid=
CATEGORIES:Jack Lloyd
GEO:33.7705095;-84.29586770000003
LOCATION:CMC Decatur, Faculty Assignment
END:VEVENT
END:VCALENDAR