BEGIN:VCALENDAR
PRODID:-//Feedo Feed//NONSGML v1.0//EN
VERSION:2.0
CALSCALE:GREGORIAN
METHOD:PUBLISH
X-WR-CALNAME:CMC Decatur Piano and Strings Camp
X-WR-CALDESC:
X-MS-OLK-FORCEINSPECTOROPEN:TRUE
BEGIN:VEVENT
DTSTAMP:20260424T145148Z
DTSTART:20230726T070000Z
DTEND:20230726T160000Z
TRANSP:TRANSPARENT
UID:1114332023-07-26
SUMMARY:CMC Decatur Piano and Strings Camp
DESCRIPTION:
URL:http://www.cmcatlanta.com/index.php/component/ohanah/cmc-decatur-piano-and-strings-camp-7?format=html&amp;Itemid=
CATEGORIES:Diana Orozco
GEO:33.7704955;-84.29584339999997
LOCATION:CMC Decatur
END:VEVENT
END:VCALENDAR