BEGIN:VCALENDAR
PRODID:-//Feedo Feed//NONSGML v1.0//EN
VERSION:2.0
CALSCALE:GREGORIAN
METHOD:PUBLISH
X-WR-CALNAME:CMC Decatur School House Rock 
X-WR-CALDESC:
X-MS-OLK-FORCEINSPECTOROPEN:TRUE
BEGIN:VEVENT
DTSTAMP:20260424T134147Z
DTSTART:20230711T160000Z
DTEND:20230711T190000Z
TRANSP:TRANSPARENT
UID:1113452023-07-11
SUMMARY:CMC Decatur School House Rock 
DESCRIPTION:
URL:http://www.cmcatlanta.com/index.php/component/ohanah/cmc-decatur-school-house-rock-7?format=html&amp;Itemid=
CATEGORIES:Rachel Odendahl
GEO:33.7705095;-84.29586770000003
LOCATION:CMC Decatur, Faculty Assignment
END:VEVENT
END:VCALENDAR