BEGIN:VCALENDAR
PRODID:-//Feedo Feed//NONSGML v1.0//EN
VERSION:2.0
CALSCALE:GREGORIAN
METHOD:PUBLISH
X-WR-CALNAME:CMC Dunwoody Drum Camp
X-WR-CALDESC:
X-MS-OLK-FORCEINSPECTOROPEN:TRUE
BEGIN:VEVENT
DTSTAMP:20260424T161609Z
DTSTART:20230630T160000Z
DTEND:20230630T220000Z
TRANSP:TRANSPARENT
UID:1111912023-06-30
SUMMARY:CMC Dunwoody Drum Camp
DESCRIPTION:
URL:http://www.cmcatlanta.com/index.php/component/ohanah/cmc-dunwoody-drum-camp-9?format=html&amp;Itemid=
CATEGORIES:Emelyn Carden
GEO:33.94902;-84.33631689999999
LOCATION:CMC Dunwoody, Faculty Assignment
END:VEVENT
END:VCALENDAR