BEGIN:VCALENDAR
PRODID:-//Feedo Feed//NONSGML v1.0//EN
VERSION:2.0
CALSCALE:GREGORIAN
METHOD:PUBLISH
X-WR-CALNAME:CMC Dunwoody Guitar and Uke
X-WR-CALDESC:
X-MS-OLK-FORCEINSPECTOROPEN:TRUE
BEGIN:VEVENT
DTSTAMP:20260424T184637Z
DTSTART:20230619T160000Z
DTEND:20230619T220000Z
TRANSP:TRANSPARENT
UID:1111322023-06-19
SUMMARY:CMC Dunwoody Guitar and Uke
DESCRIPTION:
URL:http://www.cmcatlanta.com/index.php/component/ohanah/cmc-dunwoody-guitar-and-uke?format=html&amp;Itemid=
CATEGORIES:Whittaker Dallas
GEO:33.94902;-84.33631689999999
LOCATION:CMC Dunwoody, Faculty Assignment
END:VEVENT
END:VCALENDAR