BEGIN:VCALENDAR
PRODID:-//Feedo Feed//NONSGML v1.0//EN
VERSION:2.0
CALSCALE:GREGORIAN
METHOD:PUBLISH
X-WR-CALNAME:CMC Dunwoody Jedi Academy CENTER CLOSED
X-WR-CALDESC:
X-MS-OLK-FORCEINSPECTOROPEN:TRUE
BEGIN:VEVENT
DTSTAMP:20260424T161812Z
DTSTART:20230704T160000Z
DTEND:20230704T220000Z
TRANSP:TRANSPARENT
UID:1113152023-07-04
SUMMARY:CMC Dunwoody Jedi Academy CENTER CLOSED
DESCRIPTION:
URL:http://www.cmcatlanta.com/index.php/component/ohanah/cmc-dunwoody-jedi-academy-4-1?format=html&amp;Itemid=
CATEGORIES:Jack Lloyd
GEO:33.94902;-84.33631689999999
LOCATION:CMC Dunwoody, Faculty Assignment
END:VEVENT
END:VCALENDAR