BEGIN:VCALENDAR
PRODID:-//Feedo Feed//NONSGML v1.0//EN
VERSION:2.0
CALSCALE:GREGORIAN
METHOD:PUBLISH
X-WR-CALNAME:CMC Dunwoody Jedi Academy CENTER CLOSED
X-WR-CALDESC:
X-MS-OLK-FORCEINSPECTOROPEN:TRUE
BEGIN:VEVENT
DTSTAMP:20260424T150850Z
DTSTART:20230703T114500Z
DTEND:20230703T170000Z
TRANSP:TRANSPARENT
UID:1113092023-07-03
SUMMARY:CMC Dunwoody Jedi Academy CENTER CLOSED
DESCRIPTION:
URL:http://www.cmcatlanta.com/index.php/component/ohanah/cmc-dunwoody-jedi-academy?format=html&amp;Itemid=
CATEGORIES:Whittaker Dallas
GEO:33.94902;-84.33631689999999
LOCATION:CMC Dunwoody, Faculty Assignment
END:VEVENT
END:VCALENDAR