BEGIN:VCALENDAR
PRODID:-//Feedo Feed//NONSGML v1.0//EN
VERSION:2.0
CALSCALE:GREGORIAN
METHOD:PUBLISH
X-WR-CALNAME:CMC Dunwoody Piano Camp 2
X-WR-CALDESC:
X-MS-OLK-FORCEINSPECTOROPEN:TRUE
BEGIN:VEVENT
DTSTAMP:20260424T152050Z
DTSTART:20230725T120000Z
DTEND:20230725T170000Z
TRANSP:TRANSPARENT
UID:1114372023-07-25
SUMMARY:CMC Dunwoody Piano Camp 2
DESCRIPTION:
URL:http://www.cmcatlanta.com/index.php/component/ohanah/cmc-dunwoody-piano-camp-2-1?format=html&amp;Itemid=
CATEGORIES:Johanna Millin
GEO:33.94902;-84.33631689999999
LOCATION:CMC Dunwoody, Faculty Assignment
END:VEVENT
END:VCALENDAR