BEGIN:VCALENDAR
PRODID:-//Feedo Feed//NONSGML v1.0//EN
VERSION:2.0
CALSCALE:GREGORIAN
METHOD:PUBLISH
X-WR-CALNAME:CMC Dunwoody Rock Camp 1
X-WR-CALDESC:
X-MS-OLK-FORCEINSPECTOROPEN:TRUE
BEGIN:VEVENT
DTSTAMP:20260424T201332Z
DTSTART:20230606T160000Z
DTEND:20230606T220000Z
TRANSP:TRANSPARENT
UID:1109992023-06-06
SUMMARY:CMC Dunwoody Rock Camp 1
DESCRIPTION:
URL:http://www.cmcatlanta.com/index.php/component/ohanah/cmc-dunwoody-rock-camp-1-6?format=html&amp;Itemid=
CATEGORIES:Whittaker Dallas
GEO:33.94902;-84.33631689999999
LOCATION:CMC Dunwoody, Faculty Assignment
END:VEVENT
END:VCALENDAR