BEGIN:VCALENDAR
PRODID:-//Feedo Feed//NONSGML v1.0//EN
VERSION:2.0
CALSCALE:GREGORIAN
METHOD:PUBLISH
X-WR-CALNAME:CMC Dunwoody School House Rock
X-WR-CALDESC:
X-MS-OLK-FORCEINSPECTOROPEN:TRUE
BEGIN:VEVENT
DTSTAMP:20260424T161801Z
DTSTART:20230711T160000Z
DTEND:20230711T220000Z
TRANSP:TRANSPARENT
UID:1113552023-07-11
SUMMARY:CMC Dunwoody School House Rock
DESCRIPTION:
URL:http://www.cmcatlanta.com/index.php/component/ohanah/cmc-dunwoody-school-house-rock-6?format=html&amp;Itemid=
CATEGORIES:Jack Lloyd
GEO:33.94902;-84.33631689999999
LOCATION:CMC Dunwoody, Faculty Assignment
END:VEVENT
END:VCALENDAR