BEGIN:VCALENDAR
PRODID:-//Feedo Feed//NONSGML v1.0//EN
VERSION:2.0
CALSCALE:GREGORIAN
METHOD:PUBLISH
X-WR-CALNAME:CMC Inman Drive and AMP
X-WR-CALDESC:
X-MS-OLK-FORCEINSPECTOROPEN:TRUE
BEGIN:VEVENT
DTSTAMP:20260422T204525Z
DTSTART:20260424T130000Z
DTEND:20260424T170000Z
TRANSP:TRANSPARENT
UID:1308482026-04-24
SUMMARY:CMC Inman Drive and AMP
DESCRIPTION:
URL:http://www.cmcatlanta.com/index.php/component/ohanah/cmc-inman-drive-and-amp?format=html&amp;Itemid=
CATEGORIES:Whittaker Dallas
GEO:33.94902;-84.33631689999999
LOCATION:CMC Dunwoody, Faculty Assignment
END:VEVENT
END:VCALENDAR