BEGIN:VCALENDAR
PRODID:-//Feedo Feed//NONSGML v1.0//EN
VERSION:2.0
CALSCALE:GREGORIAN
METHOD:PUBLISH
X-WR-CALNAME:CMC L5P Folk and Country CENTER CLOSED
X-WR-CALDESC:
X-MS-OLK-FORCEINSPECTOROPEN:TRUE
BEGIN:VEVENT
DTSTAMP:20260425T211120Z
DTSTART:20230704T110000Z
DTEND:20230704T170000Z
TRANSP:TRANSPARENT
UID:1113302023-07-04
SUMMARY:CMC L5P Folk and Country CENTER CLOSED
DESCRIPTION:
URL:http://www.cmcatlanta.com/index.php/component/ohanah/cmc-l5p-folk-and-country-5?format=html&amp;Itemid=
CATEGORIES:Akeal Evans
GEO:33.764702;-84.35057239999998
LOCATION:CMC Little Five Points, Faculty Assignment
END:VEVENT
END:VCALENDAR