BEGIN:VCALENDAR
PRODID:-//Feedo Feed//NONSGML v1.0//EN
VERSION:2.0
CALSCALE:GREGORIAN
METHOD:PUBLISH
X-WR-CALNAME:CMC L5P Guitar and Uke
X-WR-CALDESC:
X-MS-OLK-FORCEINSPECTOROPEN:TRUE
BEGIN:VEVENT
DTSTAMP:20260424T200028Z
DTSTART:20230613T110000Z
DTEND:20230613T190000Z
TRANSP:TRANSPARENT
UID:1110522023-06-13
SUMMARY:CMC L5P Guitar and Uke
DESCRIPTION:
URL:http://www.cmcatlanta.com/index.php/component/ohanah/cmc-l5p-guitar-and-uke-5?format=html&amp;Itemid=
CATEGORIES:Akeal Evans
GEO:33.764702;-84.35057239999998
LOCATION:CMC Little Five Points, Faculty Assignment
END:VEVENT
END:VCALENDAR