BEGIN:VCALENDAR
PRODID:-//Feedo Feed//NONSGML v1.0//EN
VERSION:2.0
CALSCALE:GREGORIAN
METHOD:PUBLISH
X-WR-CALNAME:CMC L5P Music Theory Boot Camp/ Afterschool Music Program
X-WR-CALDESC:First week of AMP and the last week of camp are together.  \n \nRoute TBD
X-MS-OLK-FORCEINSPECTOROPEN:TRUE
BEGIN:VEVENT
DTSTAMP:20260424T151651Z
DTSTART:20230801T160000Z
DTEND:20230801T223000Z
TRANSP:TRANSPARENT
UID:1118132023-08-01
SUMMARY:CMC L5P Music Theory Boot Camp/ Afterschool Music Program
DESCRIPTION:First week of AMP and the last week of camp are together.  \n \nRoute TBD
URL:http://www.cmcatlanta.com/index.php/component/ohanah/cmc-l5p-music-theory-boot-camp-afterschool-music-program-1?format=html&amp;Itemid=
CATEGORIES:Akeal Evans
GEO:33.764702;-84.35057239999998
LOCATION:CMC Little Five Points, Faculty Assignment
END:VEVENT
END:VCALENDAR