BEGIN:VCALENDAR
PRODID:-//Feedo Feed//NONSGML v1.0//EN
VERSION:2.0
CALSCALE:GREGORIAN
METHOD:PUBLISH
X-WR-CALNAME:CMC L5P Piano/Strings Camp
X-WR-CALDESC:
X-MS-OLK-FORCEINSPECTOROPEN:TRUE
BEGIN:VEVENT
DTSTAMP:20260424T210043Z
DTSTART:20230622T140000Z
DTEND:20230622T210000Z
TRANSP:TRANSPARENT
UID:1111652023-06-22
SUMMARY:CMC L5P Piano/Strings Camp
DESCRIPTION:
URL:http://www.cmcatlanta.com/index.php/component/ohanah/cmc-l5p-piano-strings-camp-16-3?format=html&amp;Itemid=
CATEGORIES:Rachel Odendahl
GEO:33.764702;-84.35057239999998
LOCATION:CMC Little Five Points, Faculty Assignment
END:VEVENT
END:VCALENDAR