BEGIN:VCALENDAR
PRODID:-//Feedo Feed//NONSGML v1.0//EN
VERSION:2.0
CALSCALE:GREGORIAN
METHOD:PUBLISH
X-WR-CALNAME:CMC L5P Rock and Blues Camp
X-WR-CALDESC:
X-MS-OLK-FORCEINSPECTOROPEN:TRUE
BEGIN:VEVENT
DTSTAMP:20260424T161640Z
DTSTART:20230626T110000Z
DTEND:20230626T190000Z
TRANSP:TRANSPARENT
UID:1111922023-06-26
SUMMARY:CMC L5P Rock and Blues Camp
DESCRIPTION:
URL:http://www.cmcatlanta.com/index.php/component/ohanah/cmc-l5p-rock-and-blues-camp?format=html&amp;Itemid=
CATEGORIES:Akeal Evans
GEO:33.764702;-84.35057239999998
LOCATION:CMC Little Five Points, Faculty Assignment
END:VEVENT
END:VCALENDAR