BEGIN:VCALENDAR
PRODID:-//Feedo Feed//NONSGML v1.0//EN
VERSION:2.0
CALSCALE:GREGORIAN
METHOD:PUBLISH
X-WR-CALNAME:CMC L5P Rock Camp 1
X-WR-CALDESC:
X-MS-OLK-FORCEINSPECTOROPEN:TRUE
BEGIN:VEVENT
DTSTAMP:20260424T201211Z
DTSTART:20230606T110000Z
DTEND:20230606T170000Z
TRANSP:TRANSPARENT
UID:1110122023-06-06
SUMMARY:CMC L5P Rock Camp 1
DESCRIPTION:
URL:http://www.cmcatlanta.com/index.php/component/ohanah/cmc-l5p-rock-camp-1-9?format=html&amp;Itemid=
CATEGORIES:Jake Flack
GEO:
LOCATION:CMC Little 5 Points, Faculty Assignment
END:VEVENT
END:VCALENDAR