BEGIN:VCALENDAR
PRODID:-//Feedo Feed//NONSGML v1.0//EN
VERSION:2.0
CALSCALE:GREGORIAN
METHOD:PUBLISH
X-WR-CALNAME:CMC L5P School House Rock
X-WR-CALDESC:
X-MS-OLK-FORCEINSPECTOROPEN:TRUE
BEGIN:VEVENT
DTSTAMP:20260424T161549Z
DTSTART:20230712T060000Z
DTEND:20230712T140000Z
TRANSP:TRANSPARENT
UID:1113612023-07-12
SUMMARY:CMC L5P School House Rock
DESCRIPTION:
URL:http://www.cmcatlanta.com/index.php/component/ohanah/cmc-l5p-school-house-rock-2?format=html&amp;Itemid=
CATEGORIES:Akeal Evans
GEO:
LOCATION:CMC Little 5 Points, Faculty Assignment
END:VEVENT
END:VCALENDAR