BEGIN:VCALENDAR
PRODID:-//Feedo Feed//NONSGML v1.0//EN
VERSION:2.0
CALSCALE:GREGORIAN
METHOD:PUBLISH
X-WR-CALNAME:CMC L5P Guitar and Uke
X-WR-CALDESC:
X-MS-OLK-FORCEINSPECTOROPEN:TRUE
BEGIN:VEVENT
DTSTAMP:20260424T200250Z
DTSTART:20230616T120000Z
DTEND:20230616T170000Z
TRANSP:TRANSPARENT
UID:1110712023-06-16
SUMMARY:CMC L5P Guitar and Uke
DESCRIPTION:
URL:http://www.cmcatlanta.com/index.php/component/ohanah/cmc-music-theater-camp-little-5-points?format=html&amp;Itemid=
CATEGORIES:Diana Orozco
GEO:33.764702;-84.35057239999998
LOCATION:CMC Little Five Points, Faculty Assignment
END:VEVENT
END:VCALENDAR