BEGIN:VCALENDAR
PRODID:-//Feedo Feed//NONSGML v1.0//EN
VERSION:2.0
CALSCALE:GREGORIAN
METHOD:PUBLISH
X-WR-CALNAME:AMHS Mid-winter Break
X-WR-CALDESC:No AMHS lessons or classes,  Facilities open for student practice by appointment.
X-MS-OLK-FORCEINSPECTOROPEN:TRUE
BEGIN:VEVENT
DTSTAMP:20260425T175456Z
DTSTART:20220214T050000Z
DTEND:20220218T110000Z
TRANSP:TRANSPARENT
UID:1050482022-02-14
SUMMARY:AMHS Mid-winter Break
DESCRIPTION:No AMHS lessons or classes,  Facilities open for student practice by appointment.
URL:http://www.cmcatlanta.com/index.php/component/ohanah/copy-of-mid-winter-break-decatur-and-atlanta-music-high-school-1?format=html&amp;Itemid=
CATEGORIES:Master Calendar
GEO:
LOCATION:Atlanta Music High School
END:VEVENT
END:VCALENDAR