BEGIN:VCALENDAR
PRODID:-//Feedo Feed//NONSGML v1.0//EN
VERSION:2.0
CALSCALE:GREGORIAN
METHOD:PUBLISH
X-WR-CALNAME:Coraline Teneford
X-WR-CALDESC:
X-MS-OLK-FORCEINSPECTOROPEN:TRUE
BEGIN:VEVENT
DTSTAMP:20260425T025546Z
DTSTART:20220110T193000Z
DTEND:20220110T200000Z
TRANSP:TRANSPARENT
UID:1007292022-01-10
SUMMARY:Coraline Teneford
DESCRIPTION:
URL:http://www.cmcatlanta.com/index.php/component/ohanah/coraline-teneford-20?format=html&amp;Itemid=
CATEGORIES:Akeal Evans
GEO:33.7646878;-84.35068100000001
LOCATION:CMC Little 5 Points, Private Lesson
END:VEVENT
END:VCALENDAR