BEGIN:VCALENDAR
PRODID:-//Feedo Feed//NONSGML v1.0//EN
VERSION:2.0
CALSCALE:GREGORIAN
METHOD:PUBLISH
X-WR-CALNAME:Coraline Tenforde
X-WR-CALDESC:
X-MS-OLK-FORCEINSPECTOROPEN:TRUE
BEGIN:VEVENT
DTSTAMP:20260421T202158Z
DTSTART:20220901T203000Z
DTEND:20220901T210000Z
TRANSP:TRANSPARENT
UID:1058192022-09-01
SUMMARY:Coraline Tenforde
DESCRIPTION:
URL:http://www.cmcatlanta.com/index.php/component/ohanah/coraline-tenforde-10-15?format=html&amp;Itemid=
CATEGORIES:Diana Orozco
GEO:33.7646878;-84.35068100000001
LOCATION:CMC Little 5 Points, Private Lesson
END:VEVENT
END:VCALENDAR