BEGIN:VCALENDAR
PRODID:-//Feedo Feed//NONSGML v1.0//EN
VERSION:2.0
CALSCALE:GREGORIAN
METHOD:PUBLISH
X-WR-CALNAME:Crystal and Clare Liang
X-WR-CALDESC:online lessons
X-MS-OLK-FORCEINSPECTOROPEN:TRUE
BEGIN:VEVENT
DTSTAMP:20260419T141840Z
DTSTART:20210520T150000Z
DTEND:20210520T160000Z
TRANSP:TRANSPARENT
UID:926032021-05-20
SUMMARY:Crystal and Clare Liang
DESCRIPTION:online lessons
URL:http://www.cmcatlanta.com/index.php/component/ohanah/crystal-and-clare-liang-33?format=html&amp;Itemid=
CATEGORIES:Brock Tammeus
GEO:33.7704955;-84.29584339999997
LOCATION:CMC Decatur
END:VEVENT
END:VCALENDAR