BEGIN:VCALENDAR
PRODID:-//Feedo Feed//NONSGML v1.0//EN
VERSION:2.0
CALSCALE:GREGORIAN
METHOD:PUBLISH
X-WR-CALNAME:Crystal and Clare Liang
X-WR-CALDESC:
X-MS-OLK-FORCEINSPECTOROPEN:TRUE
BEGIN:VEVENT
DTSTAMP:20260421T200805Z
DTSTART:20221213T210000Z
DTEND:20221213T220000Z
TRANSP:TRANSPARENT
UID:1077362022-12-13
SUMMARY:Crystal and Clare Liang
DESCRIPTION:
URL:http://www.cmcatlanta.com/index.php/component/ohanah/crystal-and-clare-liang-44-19?format=html&amp;Itemid=
CATEGORIES:Brock Tammeus
GEO:33.7704955;-84.29584339999997
LOCATION:CMC Decatur, Private Lesson
END:VEVENT
END:VCALENDAR