BEGIN:VCALENDAR
PRODID:-//Feedo Feed//NONSGML v1.0//EN
VERSION:2.0
CALSCALE:GREGORIAN
METHOD:PUBLISH
X-WR-CALNAME:Crystal and Clare Liang
X-WR-CALDESC:
X-MS-OLK-FORCEINSPECTOROPEN:TRUE
BEGIN:VEVENT
DTSTAMP:20260421T200720Z
DTSTART:20220913T210000Z
DTEND:20220913T220000Z
TRANSP:TRANSPARENT
UID:1077232022-09-13
SUMMARY:Crystal and Clare Liang
DESCRIPTION:
URL:http://www.cmcatlanta.com/index.php/component/ohanah/crystal-and-clare-liang-44-35?format=html&amp;Itemid=
CATEGORIES:Brock Tammeus
GEO:33.7704955;-84.29584339999997
LOCATION:CMC Decatur, Private Lesson
END:VEVENT
END:VCALENDAR