BEGIN:VCALENDAR
PRODID:-//Feedo Feed//NONSGML v1.0//EN
VERSION:2.0
CALSCALE:GREGORIAN
METHOD:PUBLISH
X-WR-CALNAME:Curriculum and planning meeting
X-WR-CALDESC:
X-MS-OLK-FORCEINSPECTOROPEN:TRUE
BEGIN:VEVENT
DTSTAMP:20260422T214426Z
DTSTART:20210726T090000Z
DTEND:20210726T100000Z
TRANSP:TRANSPARENT
UID:963332021-07-26
SUMMARY:Curriculum and planning meeting
DESCRIPTION:
URL:http://www.cmcatlanta.com/index.php/component/ohanah/curriculum-and-planning-meeting?format=html&amp;Itemid=
CATEGORIES:Stephanie Cordoba 
GEO:
LOCATION:CMC Little 5 Points, Faculty Assignment
END:VEVENT
END:VCALENDAR