BEGIN:VCALENDAR
PRODID:-//Feedo Feed//NONSGML v1.0//EN
VERSION:2.0
CALSCALE:GREGORIAN
METHOD:PUBLISH
X-WR-CALNAME:Daniel Pozas
X-WR-CALDESC:
X-MS-OLK-FORCEINSPECTOROPEN:TRUE
BEGIN:VEVENT
DTSTAMP:20260424T222123Z
DTSTART:20180327T150000Z
DTEND:20180327T153000Z
TRANSP:TRANSPARENT
UID:609162018-03-27
SUMMARY:Daniel Pozas
DESCRIPTION:
URL:http://www.cmcatlanta.com/index.php/component/ohanah/daniel-pozas-21?format=html&amp;Itemid=
CATEGORIES:Pedro Morales
GEO:33.7646878;-84.35068100000001
LOCATION:CMC Little 5 Points, Private Lesson
END:VEVENT
END:VCALENDAR