BEGIN:VCALENDAR
PRODID:-//Feedo Feed//NONSGML v1.0//EN
VERSION:2.0
CALSCALE:GREGORIAN
METHOD:PUBLISH
X-WR-CALNAME:Daniel Yang
X-WR-CALDESC:
X-MS-OLK-FORCEINSPECTOROPEN:TRUE
BEGIN:VEVENT
DTSTAMP:20260424T020901Z
DTSTART:20180124T154500Z
DTEND:20180124T163000Z
TRANSP:TRANSPARENT
UID:583432018-01-24
SUMMARY:Daniel Yang
DESCRIPTION:
URL:http://www.cmcatlanta.com/index.php/component/ohanah/daniel-yang-17?format=html&amp;Itemid=
CATEGORIES:Richard Mills
GEO:
LOCATION:CMC Brookhaven, Private Lesson
END:VEVENT
END:VCALENDAR