BEGIN:VCALENDAR
PRODID:-//Feedo Feed//NONSGML v1.0//EN
VERSION:2.0
CALSCALE:GREGORIAN
METHOD:PUBLISH
X-WR-CALNAME:Darshan Rajesekar  (ABSENT)
X-WR-CALDESC:
X-MS-OLK-FORCEINSPECTOROPEN:TRUE
BEGIN:VEVENT
DTSTAMP:20260422T195730Z
DTSTART:20171014T150000Z
DTEND:20171014T153000Z
TRANSP:TRANSPARENT
UID:472322017-10-14
SUMMARY:Darshan Rajesekar  (ABSENT)
DESCRIPTION:
URL:http://www.cmcatlanta.com/index.php/component/ohanah/darshan-rajesekar-1-15?format=html&amp;Itemid=
CATEGORIES:Bernie Manela
GEO:33.9462125;-84.33464730000003
LOCATION:CMC Dunwoody, Private Lesson
END:VEVENT
END:VCALENDAR