BEGIN:VCALENDAR
PRODID:-//Feedo Feed//NONSGML v1.0//EN
VERSION:2.0
CALSCALE:GREGORIAN
METHOD:PUBLISH
X-WR-CALNAME:Day Off 
X-WR-CALDESC:
X-MS-OLK-FORCEINSPECTOROPEN:TRUE
BEGIN:VEVENT
DTSTAMP:20260422T231420Z
DTSTART:20210727T120000Z
DTEND:20210728T000000Z
TRANSP:TRANSPARENT
UID:963292021-07-27
SUMMARY:Day Off 
DESCRIPTION:
URL:http://www.cmcatlanta.com/index.php/component/ohanah/day-off-35-1?format=html&amp;Itemid=
CATEGORIES:Stephanie Cordoba 
GEO:33.7705095;-84.29586770000003
LOCATION:CMC Decatur, Faculty Assignment
END:VEVENT
END:VCALENDAR