BEGIN:VCALENDAR
PRODID:-//Feedo Feed//NONSGML v1.0//EN
VERSION:2.0
CALSCALE:GREGORIAN
METHOD:PUBLISH
X-WR-CALNAME:Dunwoody Fall Break Camp
X-WR-CALDESC:
X-MS-OLK-FORCEINSPECTOROPEN:TRUE
BEGIN:VEVENT
DTSTAMP:20260423T170742Z
DTSTART:20171005T114500Z
DTEND:20171005T173000Z
TRANSP:TRANSPARENT
UID:494062017-10-05
SUMMARY:Dunwoody Fall Break Camp
DESCRIPTION:
URL:http://www.cmcatlanta.com/index.php/component/ohanah/decatur-amp-332-8?format=html&amp;Itemid=
CATEGORIES:Joe Crabb
GEO:33.94902;-84.33631689999999
LOCATION:CMC Dunwoody, Faculty Assignment
END:VEVENT
END:VCALENDAR